BEGIN:VCALENDAR
VERSION:2.0
PRODID:-// eRoom plugin //NONSGML v1.0//EN
CALSCALE:GREGORIAN
BEGIN:VEVENT
UID:eRoom-1776867282
SUMMARY:Predictions for Cyberinsurance in 2021
LOCATION:
DESCRIPTIONFanny pack taiyaki sartorial four loko disrupt green juice authentic jianbing lo-fi helvetica dreamcatcher. Cornhole artisan you probably haven’t heard of them, celiac cold-pressed pitchfork vexillologist knausgaard stumptown
URL;VALUE=URI:https://wordpress.org/plugins/eroom-zoom-meetings-webinar/
DTSTART:20231023T090000Z
DTEND:20231023T100000Z
DTSTAMP:20260422T141442Z
BEGIN:VALARM
ACTION:DISPLAY
RIGGER;RELATED=START:-PT00H15M00S
BEGIN:VALARM
END:VEVENT
END:VCALENDAR